BEGIN:VCALENDAR
VERSION:2.0
PRODID:-//Squarespace Inc/Squarespace 6//v6//EN
BEGIN:VEVENT
UID:5bfe02a28a922dcd740b706c@squarespace.com
DTSTAMP:20190124T125154Z
DTSTART:20190112T063000Z
DTEND:20190119T063000Z
SUMMARY:TRIBUTE SHOW FUNDRAISER
GEO:-36.923753;174.789709
LOCATION:Dolphin Theatre\, 12 Spring Street\, Onehunga\, Auckland\, 1061\, 
 New Zealand
END:VEVENT
END:VCALENDAR
