BEGIN:VCALENDAR
VERSION:2.0
PRODID:-//Squarespace Inc/Squarespace 6//v6//EN
BEGIN:VEVENT
UID:5aae0f4df950b791b5651dfe@squarespace.com
DTSTAMP:20180318T101726Z
DTSTART:20180420T080000Z
DTEND:20180420T103000Z
SUMMARY:Death of a Dream
GEO:-36.923753;174.789709
LOCATION:Dolphin Theatre\, 12 Spring Street\, Auckland\, Auckland\, 1061\, 
 New Zealand
END:VEVENT
END:VCALENDAR
