BEGIN:VCALENDAR
VERSION:2.0
PRODID:-//Squarespace Inc/Squarespace 6//v6//EN
BEGIN:VEVENT
UID:5be69e1dc2241bb5cb6dd5a8@squarespace.com
DTSTAMP:20181110T104816Z
DTSTART:20181118T003000Z
DTEND:20181118T033000Z
SUMMARY:Audition Notice
GEO:-36.923753;174.789709
LOCATION:Dolphin Theatre\, 12 Spring Street\, Onehunga\, Auckland\, 1061\, 
 New Zealand
END:VEVENT
END:VCALENDAR
