BEGIN:VCALENDAR
VERSION:2.0
PRODID:-//Squarespace Inc/Squarespace 6//v6//EN
BEGIN:VEVENT
UID:58e0f0dbf5e2318397f1e214@squarespace.com
DTSTAMP:20170402T125843Z
DTSTART:20170409T013000Z
DTEND:20170409T040000Z
SUMMARY:Audition Notice
GEO:-36.923753;174.789709
LOCATION:Dolphin Theatre\, 12 Spring Street\, Onehunga\, Auckland\, New Zea
 land
END:VEVENT
END:VCALENDAR
