BEGIN:VCALENDAR
VERSION:2.0
PRODID:-//Squarespace Inc/Squarespace 6//v6//EN
BEGIN:VEVENT
UID:57aae04559cc6881bc2bf93b@squarespace.com
DTSTAMP:20160814T142357Z
DTSTART:20160903T220000Z
DTEND:20160904T040000Z
SUMMARY:Audition Notice
GEO:-36.923753;174.789709
LOCATION:Dolphin Theatre\, 12 Spring Street\, Onehunga\, Auckland\, 1061\, 
 New Zealand
END:VEVENT
END:VCALENDAR
