BEGIN:VCALENDAR
VERSION:2.0
PRODID:-//Squarespace Inc/Squarespace 6//v6//EN
BEGIN:VEVENT
UID:576c7ff62994cad80683e259@squarespace.com
DTSTAMP:20160625T194855Z
DTSTART:20160716T230000Z
DTEND:20160717T060000Z
SUMMARY:High Tea Fundraiser
GEO:-36.923753;174.789709
LOCATION:Dolphin Theatre\, 12 Spring Street\, Onehunga\, Auckland\, 1061\, 
 New Zealand
END:VEVENT
END:VCALENDAR
