BEGIN:VCALENDAR
VERSION:2.0
PRODID:-//Squarespace Inc/Squarespace 6//v6//EN
BEGIN:VEVENT
UID:571f67880442626ebae2044e@squarespace.com
DTSTAMP:20160430T092139Z
DTSTART:20160522T013000Z
DTEND:20160522T040000Z
SUMMARY:Audition Notice
GEO:-36.923753;174.789709
LOCATION:Dolphin Theatre\, 12 Spring Street\, Onehunga\, Auckland\, 1061\, 
 New Zealand
END:VEVENT
END:VCALENDAR
