BEGIN:VCALENDAR
VERSION:2.0
PRODID:-//Squarespace Inc/Squarespace 6//v6//EN
BEGIN:VEVENT
UID:56a4228622482e29e0e80c74@squarespace.com
DTSTAMP:20160331T062005Z
DTSTART:20160417T013000Z
DTEND:20160417T040000Z
SUMMARY:Audition Notice
GEO:-36.923753;174.789709
LOCATION:Dolphin Theatre\, 12 Spring Street\, Onehunga\, Auckland\, 1061\, 
 New Zealand
END:VEVENT
END:VCALENDAR
