BEGIN:VCALENDAR
VERSION:2.0
PRODID:-//Squarespace Inc/Squarespace 6//v6//EN
BEGIN:VEVENT
UID:5816efdfb8a79bcbacb29d77@squarespace.com
DTSTAMP:20161120T053439Z
DTSTART:20161127T000000Z
DTEND:20161127T030000Z
SUMMARY:Audition Notice
GEO:-36.923753;174.789709
LOCATION:Dolphin Theatre\, 12 Spring Street\, Onehunga\, Auckland\, 1061\, 
 New Zealand
END:VEVENT
END:VCALENDAR
