BEGIN:VCALENDAR
VERSION:2.0
PRODID:-//Squarespace Inc/Squarespace 6//v6//EN
BEGIN:VEVENT
UID:561b1ac5e4b0c93c7c062857@squarespace.com
DTSTAMP:20160103T090213Z
DTSTART:20151108T040000Z
DTEND:20151108T060000Z
SUMMARY:Volunteer Function 2015
GEO:-36.923753;174.789709
LOCATION:Dolphin Theatre\, 12 Spring Street\, Onehunga\, Auckland\, 1061\, 
 New Zealand
END:VEVENT
END:VCALENDAR
